BEGIN:VCALENDAR
VERSION:2.0
PRODID:-//Mount of Olives Baptist Church - ECPv4.9.3.2//NONSGML v1.0//EN
CALSCALE:GREGORIAN
METHOD:PUBLISH
X-WR-CALNAME:Mount of Olives Baptist Church
X-ORIGINAL-URL:http://mountofolives.net
X-WR-CALDESC:Events for Mount of Olives Baptist Church
BEGIN:VEVENT
DTSTART;TZID=America/Chicago:20240504T090000
DTEND;TZID=America/Chicago:20240504T120000
DTSTAMP:20260421T134249
CREATED:20240503T142557Z
LAST-MODIFIED:20240503T142557Z
UID:7535-1714813200-1714824000@mountofolives.net
SUMMARY:Annual Church Cleaning
DESCRIPTION:
URL:http://mountofolives.net/event/annual-church-cleaning/
END:VEVENT
END:VCALENDAR