BEGIN:VCALENDAR
VERSION:2.0
PRODID:-//Mount of Olives Baptist Church - ECPv4.9.3.2//NONSGML v1.0//EN
CALSCALE:GREGORIAN
METHOD:PUBLISH
X-WR-CALNAME:Mount of Olives Baptist Church
X-ORIGINAL-URL:http://mountofolives.net
X-WR-CALDESC:Events for Mount of Olives Baptist Church
BEGIN:VEVENT
DTSTART;VALUE=DATE:20240915
DTEND;VALUE=DATE:20240916
DTSTAMP:20260420T233434
CREATED:20240815T200200Z
LAST-MODIFIED:20240815T200527Z
UID:8009-1726358400-1726444799@mountofolives.net
SUMMARY:Annual Church Picnic
DESCRIPTION:
URL:http://mountofolives.net/event/annual-church-picnic/
END:VEVENT
END:VCALENDAR