BEGIN:VCALENDAR
VERSION:2.0
PRODID:-//Mount of Olives Baptist Church - ECPv4.9.3.2//NONSGML v1.0//EN
CALSCALE:GREGORIAN
METHOD:PUBLISH
X-WR-CALNAME:Mount of Olives Baptist Church
X-ORIGINAL-URL:http://mountofolives.net
X-WR-CALDESC:Events for Mount of Olives Baptist Church
BEGIN:VEVENT
DTSTART;TZID=America/Chicago:20250512T183000
DTEND;TZID=America/Chicago:20250512T200000
DTSTAMP:20260420T214450
CREATED:20250508T180558Z
LAST-MODIFIED:20250508T180558Z
UID:8737-1747074600-1747080000@mountofolives.net
SUMMARY:Baby Sprinkle for Karly Karp
DESCRIPTION:
URL:http://mountofolives.net/event/baby-sprinkle-for-karly-karp/
END:VEVENT
END:VCALENDAR