BEGIN:VCALENDAR
VERSION:2.0
PRODID:-//Mount of Olives Baptist Church - ECPv4.9.3.2//NONSGML v1.0//EN
CALSCALE:GREGORIAN
METHOD:PUBLISH
X-WR-CALNAME:Mount of Olives Baptist Church
X-ORIGINAL-URL:http://mountofolives.net
X-WR-CALDESC:Events for Mount of Olives Baptist Church
BEGIN:VEVENT
DTSTART;TZID=America/Chicago:20241222T093000
DTEND;TZID=America/Chicago:20241222T103000
DTSTAMP:20260420T225918
CREATED:20241212T162229Z
LAST-MODIFIED:20241212T162229Z
UID:8448-1734859800-1734863400@mountofolives.net
SUMMARY:Christmas Breakfast Potluck
DESCRIPTION:
URL:http://mountofolives.net/event/christmas-breakfast-potluck/
END:VEVENT
END:VCALENDAR