BEGIN:VCALENDAR
VERSION:2.0
PRODID:-//Mount of Olives Baptist Church - ECPv4.9.3.2//NONSGML v1.0//EN
CALSCALE:GREGORIAN
METHOD:PUBLISH
X-WR-CALNAME:Mount of Olives Baptist Church
X-ORIGINAL-URL:http://mountofolives.net
X-WR-CALDESC:Events for Mount of Olives Baptist Church
BEGIN:VEVENT
DTSTART;TZID=America/Chicago:20250322T090000
DTEND;TZID=America/Chicago:20250322T120000
DTSTAMP:20260420T210813
CREATED:20250312T222401Z
LAST-MODIFIED:20250312T222401Z
UID:8628-1742634000-1742644800@mountofolives.net
SUMMARY:Church Cleaning Day
DESCRIPTION:
URL:http://mountofolives.net/event/church-cleaning-day/
END:VEVENT
END:VCALENDAR