BEGIN:VCALENDAR
VERSION:2.0
PRODID:-//Mount of Olives Baptist Church - ECPv4.9.3.2//NONSGML v1.0//EN
CALSCALE:GREGORIAN
METHOD:PUBLISH
X-WR-CALNAME:Mount of Olives Baptist Church
X-ORIGINAL-URL:http://mountofolives.net
X-WR-CALDESC:Events for Mount of Olives Baptist Church
BEGIN:VEVENT
DTSTART;VALUE=DATE:20250323
DTEND;VALUE=DATE:20250324
DTSTAMP:20260420T225514
CREATED:20250312T222326Z
LAST-MODIFIED:20250312T222326Z
UID:8626-1742688000-1742774399@mountofolives.net
SUMMARY:Church Potluck (After Worship)
DESCRIPTION:
URL:http://mountofolives.net/event/church-potluck-after-worship/
END:VEVENT
END:VCALENDAR