BEGIN:VCALENDAR
VERSION:2.0
PRODID:-//Mount of Olives Baptist Church - ECPv4.9.3.2//NONSGML v1.0//EN
CALSCALE:GREGORIAN
METHOD:PUBLISH
X-WR-CALNAME:Mount of Olives Baptist Church
X-ORIGINAL-URL:http://mountofolives.net
X-WR-CALDESC:Events for Mount of Olives Baptist Church
BEGIN:VEVENT
DTSTART;VALUE=DATE:20240908
DTEND;VALUE=DATE:20240909
DTSTAMP:20260422T205841
CREATED:20240815T200124Z
LAST-MODIFIED:20240815T200124Z
UID:8007-1725753600-1725839999@mountofolives.net
SUMMARY:Covenant Sunday
DESCRIPTION:
URL:http://mountofolives.net/event/covenant-sunday/
END:VEVENT
END:VCALENDAR