BEGIN:VCALENDAR
VERSION:2.0
PRODID:-//Mount of Olives Baptist Church - ECPv4.9.3.2//NONSGML v1.0//EN
CALSCALE:GREGORIAN
METHOD:PUBLISH
X-WR-CALNAME:Mount of Olives Baptist Church
X-ORIGINAL-URL:http://mountofolives.net
X-WR-CALDESC:Events for Mount of Olives Baptist Church
BEGIN:VEVENT
DTSTART;TZID=America/Chicago:20250420T093000
DTEND;TZID=America/Chicago:20250420T103000
DTSTAMP:20260420T114431
CREATED:20250410T145908Z
LAST-MODIFIED:20250410T145908Z
UID:8670-1745141400-1745145000@mountofolives.net
SUMMARY:Easter Breakfast Potluck
DESCRIPTION:
URL:http://mountofolives.net/event/easter-breakfast-potluck/
END:VEVENT
END:VCALENDAR