BEGIN:VCALENDAR
VERSION:2.0
PRODID:-//Mount of Olives Baptist Church - ECPv4.9.3.2//NONSGML v1.0//EN
CALSCALE:GREGORIAN
METHOD:PUBLISH
X-WR-CALNAME:Mount of Olives Baptist Church
X-ORIGINAL-URL:http://mountofolives.net
X-WR-CALDESC:Events for Mount of Olives Baptist Church
BEGIN:VEVENT
DTSTART;TZID=America/Chicago:20250918T113000
DTEND;TZID=America/Chicago:20250918T113000
DTSTAMP:20260421T221426
CREATED:20250909T161532Z
LAST-MODIFIED:20250909T161532Z
UID:8865-1758195000-1758195000@mountofolives.net
SUMMARY:Energizers
DESCRIPTION:Luncheon with program on the Jackson Home Project in Hermantown\, presented by the Hermantown Historical Society. Please contact Jan Ihrke @ 218-390-1121 if you plan to attend. \n
URL:http://mountofolives.net/event/energizers-10/
END:VEVENT
END:VCALENDAR