BEGIN:VCALENDAR
VERSION:2.0
PRODID:-//Mount of Olives Baptist Church - ECPv4.9.3.2//NONSGML v1.0//EN
CALSCALE:GREGORIAN
METHOD:PUBLISH
X-WR-CALNAME:Mount of Olives Baptist Church
X-ORIGINAL-URL:http://mountofolives.net
X-WR-CALDESC:Events for Mount of Olives Baptist Church
BEGIN:VEVENT
DTSTART;TZID=America/Chicago:20251016T113000
DTEND;TZID=America/Chicago:20251016T130000
DTSTAMP:20260420T144448
CREATED:20251007T152752Z
LAST-MODIFIED:20251007T152752Z
UID:9217-1760614200-1760619600@mountofolives.net
SUMMARY:Energizers
DESCRIPTION:
URL:http://mountofolives.net/event/energizers-11/
END:VEVENT
END:VCALENDAR