BEGIN:VCALENDAR
VERSION:2.0
PRODID:-//Mount of Olives Baptist Church - ECPv4.9.3.2//NONSGML v1.0//EN
CALSCALE:GREGORIAN
METHOD:PUBLISH
X-WR-CALNAME:Mount of Olives Baptist Church
X-ORIGINAL-URL:http://mountofolives.net
X-WR-CALDESC:Events for Mount of Olives Baptist Church
BEGIN:VEVENT
DTSTART;TZID=America/Chicago:20251120T113000
DTEND;TZID=America/Chicago:20251120T130000
DTSTAMP:20260420T144453
CREATED:20251029T204529Z
LAST-MODIFIED:20251029T204529Z
UID:9263-1763638200-1763643600@mountofolives.net
SUMMARY:Energizers
DESCRIPTION:
URL:http://mountofolives.net/event/energizers-12/
END:VEVENT
END:VCALENDAR