BEGIN:VCALENDAR
VERSION:2.0
PRODID:-//Mount of Olives Baptist Church - ECPv4.9.3.2//NONSGML v1.0//EN
CALSCALE:GREGORIAN
METHOD:PUBLISH
X-WR-CALNAME:Mount of Olives Baptist Church
X-ORIGINAL-URL:http://mountofolives.net
X-WR-CALDESC:Events for Mount of Olives Baptist Church
BEGIN:VEVENT
DTSTART;TZID=America/Chicago:20260319T113000
DTEND;TZID=America/Chicago:20260319T130000
DTSTAMP:20260421T002318
CREATED:20260217T192439Z
LAST-MODIFIED:20260217T192439Z
UID:9491-1773919800-1773925200@mountofolives.net
SUMMARY:Energizers
DESCRIPTION:
URL:http://mountofolives.net/event/energizers-4/
END:VEVENT
END:VCALENDAR