BEGIN:VCALENDAR
VERSION:2.0
PRODID:-//Mount of Olives Baptist Church - ECPv4.9.3.2//NONSGML v1.0//EN
CALSCALE:GREGORIAN
METHOD:PUBLISH
X-WR-CALNAME:Mount of Olives Baptist Church
X-ORIGINAL-URL:http://mountofolives.net
X-WR-CALDESC:Events for Mount of Olives Baptist Church
BEGIN:VEVENT
DTSTART;TZID=America/Chicago:20250515T113000
DTEND;TZID=America/Chicago:20250515T130000
DTSTAMP:20260420T182942
CREATED:20250423T221043Z
LAST-MODIFIED:20250423T221043Z
UID:8717-1747308600-1747314000@mountofolives.net
SUMMARY:Energizers
DESCRIPTION:
URL:http://mountofolives.net/event/energizers-9/
END:VEVENT
END:VCALENDAR