BEGIN:VCALENDAR
VERSION:2.0
PRODID:-//Mount of Olives Baptist Church - ECPv4.9.3.2//NONSGML v1.0//EN
CALSCALE:GREGORIAN
METHOD:PUBLISH
X-WR-CALNAME:Mount of Olives Baptist Church
X-ORIGINAL-URL:http://mountofolives.net
X-WR-CALDESC:Events for Mount of Olives Baptist Church
BEGIN:VEVENT
DTSTART;TZID=America/Chicago:20240424T180000
DTEND;TZID=America/Chicago:20240424T193000
DTSTAMP:20260423T024640
CREATED:20230828T155240Z
LAST-MODIFIED:20230929T194141Z
UID:6830-1713981600-1713987000@mountofolives.net
SUMMARY:Kid's Club
DESCRIPTION:
URL:http://mountofolives.net/event/kids-club-2/2024-04-24/
END:VEVENT
END:VCALENDAR