BEGIN:VCALENDAR
VERSION:2.0
PRODID:-//Mount of Olives Baptist Church - ECPv4.9.3.2//NONSGML v1.0//EN
CALSCALE:GREGORIAN
METHOD:PUBLISH
X-WR-CALNAME:Mount of Olives Baptist Church
X-ORIGINAL-URL:http://mountofolives.net
X-WR-CALDESC:Events for Mount of Olives Baptist Church
BEGIN:VEVENT
DTSTART;TZID=America/Chicago:20250326T180000
DTEND;TZID=America/Chicago:20250326T193000
DTSTAMP:20260420T150512
CREATED:20221004T175240Z
LAST-MODIFIED:20221004T175240Z
UID:6274-1743012000-1743017400@mountofolives.net
SUMMARY:Kid's Club
DESCRIPTION:A night of Bible learning and fun for K-5th graders! \n
URL:http://mountofolives.net/event/kids-club/2025-03-26/
END:VEVENT
END:VCALENDAR