BEGIN:VCALENDAR
VERSION:2.0
PRODID:-//Mount of Olives Baptist Church - ECPv4.9.3.2//NONSGML v1.0//EN
CALSCALE:GREGORIAN
METHOD:PUBLISH
X-WR-CALNAME:Mount of Olives Baptist Church
X-ORIGINAL-URL:http://mountofolives.net
X-WR-CALDESC:Events for Mount of Olives Baptist Church
BEGIN:VEVENT
DTSTART;TZID=America/Chicago:20251217T180000
DTEND;TZID=America/Chicago:20251217T193000
DTSTAMP:20260420T175629
CREATED:20250916T165629Z
LAST-MODIFIED:20251021T165852Z
UID:9193-1765994400-1765999800@mountofolives.net
SUMMARY:Kingdom Kids
DESCRIPTION:
URL:http://mountofolives.net/event/kingdom-kids-2/2025-12-17/
END:VEVENT
END:VCALENDAR