BEGIN:VCALENDAR
VERSION:2.0
PRODID:-//Mount of Olives Baptist Church - ECPv4.9.3.2//NONSGML v1.0//EN
CALSCALE:GREGORIAN
METHOD:PUBLISH
X-WR-CALNAME:Mount of Olives Baptist Church
X-ORIGINAL-URL:http://mountofolives.net
X-WR-CALDESC:Events for Mount of Olives Baptist Church
BEGIN:VEVENT
DTSTART;TZID=America/Chicago:20260125T120000
DTEND;TZID=America/Chicago:20260125T130000
DTSTAMP:20260421T002407
CREATED:20260113T164219Z
LAST-MODIFIED:20260113T164219Z
UID:9463-1769342400-1769346000@mountofolives.net
SUMMARY:Member's Meeting
DESCRIPTION:Member’s meeting immediately following the worship service. \n
URL:http://mountofolives.net/event/members-meeting-2/
END:VEVENT
END:VCALENDAR