BEGIN:VCALENDAR
VERSION:2.0
PRODID:-//Mount of Olives Baptist Church - ECPv4.9.3.2//NONSGML v1.0//EN
CALSCALE:GREGORIAN
METHOD:PUBLISH
X-WR-CALNAME:Mount of Olives Baptist Church
X-ORIGINAL-URL:http://mountofolives.net
X-WR-CALDESC:Events for Mount of Olives Baptist Church
BEGIN:VEVENT
DTSTART;VALUE=DATE:20250112
DTEND;VALUE=DATE:20250113
DTSTAMP:20260421T020606
CREATED:20241218T153324Z
LAST-MODIFIED:20241218T153324Z
UID:8460-1736640000-1736726399@mountofolives.net
SUMMARY:Member's Meeting
DESCRIPTION:
URL:http://mountofolives.net/event/members-meeting-4/
END:VEVENT
END:VCALENDAR