BEGIN:VCALENDAR
VERSION:2.0
PRODID:-//Mount of Olives Baptist Church - ECPv4.9.3.2//NONSGML v1.0//EN
CALSCALE:GREGORIAN
METHOD:PUBLISH
X-WR-CALNAME:Mount of Olives Baptist Church
X-ORIGINAL-URL:http://mountofolives.net
X-WR-CALDESC:Events for Mount of Olives Baptist Church
BEGIN:VEVENT
DTSTART;TZID=America/Chicago:20250902T063000
DTEND;TZID=America/Chicago:20250902T080000
DTSTAMP:20260420T105229
CREATED:20210707T145230Z
LAST-MODIFIED:20250918T163720Z
UID:6897-1756794600-1756800000@mountofolives.net
SUMMARY:Men's Bible Study
DESCRIPTION:
URL:http://mountofolives.net/event/mens-bible-study-15/2025-09-02/
END:VEVENT
END:VCALENDAR