BEGIN:VCALENDAR
VERSION:2.0
PRODID:-//Mount of Olives Baptist Church - ECPv4.9.3.2//NONSGML v1.0//EN
CALSCALE:GREGORIAN
METHOD:PUBLISH
X-WR-CALNAME:Mount of Olives Baptist Church
X-ORIGINAL-URL:http://mountofolives.net
X-WR-CALDESC:Events for Mount of Olives Baptist Church
BEGIN:VEVENT
DTSTART;TZID=America/Chicago:20260131T080000
DTEND;TZID=America/Chicago:20260131T093000
DTSTAMP:20260420T162433
CREATED:20250923T144204Z
LAST-MODIFIED:20250923T144204Z
UID:9436-1769846400-1769851800@mountofolives.net
SUMMARY:Men's Breakfast
DESCRIPTION:
URL:http://mountofolives.net/event/mens-breakfast-12/2026-01-31/
END:VEVENT
END:VCALENDAR