BEGIN:VCALENDAR
VERSION:2.0
PRODID:-//Mount of Olives Baptist Church - ECPv4.9.3.2//NONSGML v1.0//EN
CALSCALE:GREGORIAN
METHOD:PUBLISH
X-WR-CALNAME:Mount of Olives Baptist Church
X-ORIGINAL-URL:http://mountofolives.net
X-WR-CALDESC:Events for Mount of Olives Baptist Church
BEGIN:VEVENT
DTSTART;TZID=America/Chicago:20240928T080000
DTEND;TZID=America/Chicago:20240928T100000
DTSTAMP:20260421T133919
CREATED:20240815T200054Z
LAST-MODIFIED:20240815T200054Z
UID:8005-1727510400-1727517600@mountofolives.net
SUMMARY:Men's Breakfast
DESCRIPTION:
URL:http://mountofolives.net/event/mens-breakfast-17/
END:VEVENT
END:VCALENDAR