BEGIN:VCALENDAR
VERSION:2.0
PRODID:-//Mount of Olives Baptist Church - ECPv4.9.3.2//NONSGML v1.0//EN
CALSCALE:GREGORIAN
METHOD:PUBLISH
X-WR-CALNAME:Mount of Olives Baptist Church
X-ORIGINAL-URL:http://mountofolives.net
X-WR-CALDESC:Events for Mount of Olives Baptist Church
BEGIN:VEVENT
DTSTART;TZID=America/Chicago:20240427T080000
DTEND;TZID=America/Chicago:20240427T100000
DTSTAMP:20260423T041946
CREATED:20240329T133903Z
LAST-MODIFIED:20240329T134122Z
UID:7478-1714204800-1714212000@mountofolives.net
SUMMARY:Men's Breakfast
DESCRIPTION:
URL:http://mountofolives.net/event/mens-breakfast-25/
END:VEVENT
END:VCALENDAR