BEGIN:VCALENDAR
VERSION:2.0
PRODID:-//Mount of Olives Baptist Church - ECPv4.9.3.2//NONSGML v1.0//EN
CALSCALE:GREGORIAN
METHOD:PUBLISH
X-WR-CALNAME:Mount of Olives Baptist Church
X-ORIGINAL-URL:http://mountofolives.net
X-WR-CALDESC:Events for Mount of Olives Baptist Church
BEGIN:VEVENT
DTSTART;TZID=America/Chicago:20260313T173000
DTEND;TZID=America/Chicago:20260313T190000
DTSTAMP:20260420T144423
CREATED:20260217T192341Z
LAST-MODIFIED:20260217T192341Z
UID:9489-1773423000-1773428400@mountofolives.net
SUMMARY:Men's Game Night
DESCRIPTION:
URL:http://mountofolives.net/event/mens-game-night-23/
END:VEVENT
END:VCALENDAR