BEGIN:VCALENDAR
VERSION:2.0
PRODID:-//Mount of Olives Baptist Church - ECPv4.9.3.2//NONSGML v1.0//EN
CALSCALE:GREGORIAN
METHOD:PUBLISH
X-WR-CALNAME:Mount of Olives Baptist Church
X-ORIGINAL-URL:http://mountofolives.net
X-WR-CALDESC:Events for Mount of Olives Baptist Church
BEGIN:VEVENT
DTSTART;TZID=America/Chicago:20240913T173000
DTEND;TZID=America/Chicago:20240913T203000
DTSTAMP:20260420T231512
CREATED:20240815T193828Z
LAST-MODIFIED:20240815T193828Z
UID:7969-1726248600-1726259400@mountofolives.net
SUMMARY:Men's Game Night
DESCRIPTION:
URL:http://mountofolives.net/event/mens-game-night-38/
END:VEVENT
END:VCALENDAR