BEGIN:VCALENDAR
VERSION:2.0
PRODID:-//Mount of Olives Baptist Church - ECPv4.9.3.2//NONSGML v1.0//EN
CALSCALE:GREGORIAN
METHOD:PUBLISH
X-WR-CALNAME:Mount of Olives Baptist Church
X-ORIGINAL-URL:http://mountofolives.net
X-WR-CALDESC:Events for Mount of Olives Baptist Church
BEGIN:VEVENT
DTSTART;TZID=America/Chicago:20250314T173000
DTEND;TZID=America/Chicago:20250314T190000
DTSTAMP:20260420T225443
CREATED:20250221T194717Z
LAST-MODIFIED:20250221T194717Z
UID:8594-1741973400-1741978800@mountofolives.net
SUMMARY:Men's Game Night
DESCRIPTION:
URL:http://mountofolives.net/event/mens-game-night-39/
END:VEVENT
END:VCALENDAR