BEGIN:VCALENDAR
VERSION:2.0
PRODID:-//Mount of Olives Baptist Church - ECPv4.9.3.2//NONSGML v1.0//EN
CALSCALE:GREGORIAN
METHOD:PUBLISH
X-WR-CALNAME:Mount of Olives Baptist Church
X-ORIGINAL-URL:http://mountofolives.net
X-WR-CALDESC:Events for Mount of Olives Baptist Church
BEGIN:VEVENT
DTSTART;TZID=America/Chicago:20250921T090000
DTEND;TZID=America/Chicago:20250921T090000
DTSTAMP:20260421T220844
CREATED:20250909T161652Z
LAST-MODIFIED:20250909T162741Z
UID:8867-1758445200-1758445200@mountofolives.net
SUMMARY:MOBC Annual Picnic
DESCRIPTION:
URL:http://mountofolives.net/event/mobc-annual-picnic/
END:VEVENT
END:VCALENDAR