BEGIN:VCALENDAR
VERSION:2.0
PRODID:-//Mount of Olives Baptist Church - ECPv4.9.3.2//NONSGML v1.0//EN
CALSCALE:GREGORIAN
METHOD:PUBLISH
X-WR-CALNAME:Mount of Olives Baptist Church
X-ORIGINAL-URL:http://mountofolives.net
X-WR-CALDESC:Events for Mount of Olives Baptist Church
BEGIN:VEVENT
DTSTART;TZID=America/Chicago:20241127T173000
DTEND;TZID=America/Chicago:20241127T190000
DTSTAMP:20260421T015916
CREATED:20241015T142146Z
LAST-MODIFIED:20241108T193741Z
UID:8284-1732728600-1732734000@mountofolives.net
SUMMARY:Prayer Service and Soup Supper
DESCRIPTION:
URL:http://mountofolives.net/event/prayer-service-and-soup-supper/
END:VEVENT
END:VCALENDAR