BEGIN:VCALENDAR
VERSION:2.0
PRODID:-//Mount of Olives Baptist Church - ECPv4.9.3.2//NONSGML v1.0//EN
CALSCALE:GREGORIAN
METHOD:PUBLISH
X-WR-CALNAME:Mount of Olives Baptist Church
X-ORIGINAL-URL:http://mountofolives.net
X-WR-CALDESC:Events for Mount of Olives Baptist Church
BEGIN:VEVENT
DTSTART;TZID=America/Chicago:20251213T100000
DTEND;TZID=America/Chicago:20251213T120000
DTSTAMP:20260420T172528
CREATED:20251111T155840Z
LAST-MODIFIED:20251111T155840Z
UID:9280-1765620000-1765627200@mountofolives.net
SUMMARY:Women's Christmas Brunch - Comfort & Joy
DESCRIPTION:
URL:http://mountofolives.net/event/womens-christmas-brunch-comfort-joy/
END:VEVENT
END:VCALENDAR