BEGIN:VCALENDAR
VERSION:2.0
PRODID:-//Mount of Olives Baptist Church - ECPv4.9.3.2//NONSGML v1.0//EN
CALSCALE:GREGORIAN
METHOD:PUBLISH
X-WR-CALNAME:Mount of Olives Baptist Church
X-ORIGINAL-URL:http://mountofolives.net
X-WR-CALDESC:Events for Mount of Olives Baptist Church
BEGIN:VEVENT
DTSTART;TZID=America/Chicago:20250213T090000
DTEND;TZID=America/Chicago:20250213T103000
DTSTAMP:20260420T145855
CREATED:20241218T153657Z
LAST-MODIFIED:20241218T153657Z
UID:8562-1739437200-1739442600@mountofolives.net
SUMMARY:Women's Prayer
DESCRIPTION:
URL:http://mountofolives.net/event/womens-prayer-51/2025-02-13/
END:VEVENT
END:VCALENDAR