BEGIN:VCALENDAR
VERSION:2.0
PRODID:-//Mount of Olives Baptist Church - ECPv4.9.3.2//NONSGML v1.0//EN
CALSCALE:GREGORIAN
METHOD:PUBLISH
X-WR-CALNAME:Mount of Olives Baptist Church
X-ORIGINAL-URL:http://mountofolives.net
X-WR-CALDESC:Events for Mount of Olives Baptist Church
BEGIN:VEVENT
DTSTART;TZID=America/Chicago:20250522T090000
DTEND;TZID=America/Chicago:20250522T223000
DTSTAMP:20260420T180405
CREATED:20250410T151021Z
LAST-MODIFIED:20250410T151021Z
UID:8693-1747904400-1747953000@mountofolives.net
SUMMARY:Women's Prayer
DESCRIPTION:
URL:http://mountofolives.net/event/womens-prayer-52/2025-05-22/
END:VEVENT
END:VCALENDAR