BEGIN:VCALENDAR
VERSION:2.0
PRODID:-//Mount of Olives Baptist Church - ECPv4.9.3.2//NONSGML v1.0//EN
CALSCALE:GREGORIAN
METHOD:PUBLISH
X-WR-CALNAME:Mount of Olives Baptist Church
X-ORIGINAL-URL:http://mountofolives.net
X-WR-CALDESC:Events for Mount of Olives Baptist Church
BEGIN:VEVENT
DTSTART;TZID=America/Chicago:20260122T090000
DTEND;TZID=America/Chicago:20260122T103000
DTSTAMP:20260420T210934
CREATED:20250909T160212Z
LAST-MODIFIED:20260102T205605Z
UID:9390-1769072400-1769077800@mountofolives.net
SUMMARY:Women's Prayer Group
DESCRIPTION:
URL:http://mountofolives.net/event/womens-prayer-group-2/2026-01-22/
END:VEVENT
END:VCALENDAR