BEGIN:VCALENDAR
VERSION:2.0
PRODID:-//Mount of Olives Baptist Church - ECPv4.9.3.2//NONSGML v1.0//EN
CALSCALE:GREGORIAN
METHOD:PUBLISH
X-WR-CALNAME:Mount of Olives Baptist Church
X-ORIGINAL-URL:http://mountofolives.net
X-WR-CALDESC:Events for Mount of Olives Baptist Church
BEGIN:VEVENT
DTSTART;TZID=America/Chicago:20240926T090000
DTEND;TZID=America/Chicago:20240926T103000
DTSTAMP:20260421T103242
CREATED:20240813T154847Z
LAST-MODIFIED:20240813T154847Z
UID:7955-1727341200-1727346600@mountofolives.net
SUMMARY:Women's Prayer Group
DESCRIPTION:
URL:http://mountofolives.net/event/womens-prayer-group/2024-09-26/
END:VEVENT
END:VCALENDAR