BEGIN:VCALENDAR
VERSION:2.0
PRODID:-//Mount of Olives Baptist Church - ECPv4.9.3.2//NONSGML v1.0//EN
CALSCALE:GREGORIAN
METHOD:PUBLISH
X-WR-CALNAME:Mount of Olives Baptist Church
X-ORIGINAL-URL:http://mountofolives.net
X-WR-CALDESC:Events for Mount of Olives Baptist Church
BEGIN:VEVENT
DTSTART;TZID=America/Chicago:20240707T090000
DTEND;TZID=America/Chicago:20240707T103000
DTSTAMP:20260420T101228
CREATED:20240524T145823Z
LAST-MODIFIED:20240524T145823Z
UID:7646-1720342800-1720348200@mountofolives.net
SUMMARY:Worship Service
DESCRIPTION:
URL:http://mountofolives.net/event/worship-service-2/2024-07-07/
END:VEVENT
END:VCALENDAR