BEGIN:VCALENDAR
VERSION:2.0
PRODID:-//Mount of Olives Baptist Church - ECPv4.9.3.2//NONSGML v1.0//EN
CALSCALE:GREGORIAN
METHOD:PUBLISH
X-WR-CALNAME:Mount of Olives Baptist Church
X-ORIGINAL-URL:http://mountofolives.net
X-WR-CALDESC:Events for Mount of Olives Baptist Church
BEGIN:VEVENT
DTSTART;VALUE=DATE:20240526
DTEND;VALUE=DATE:20240527
DTSTAMP:20260422T234701
CREATED:20240503T142820Z
LAST-MODIFIED:20240524T145654Z
UID:7543-1716681600-1716767999@mountofolives.net
SUMMARY:WORSHIP SERVICE CHANGES TO 9AM
DESCRIPTION:
URL:http://mountofolives.net/event/worship-service-changes-to-9am/
END:VEVENT
END:VCALENDAR