BEGIN:VCALENDAR
VERSION:2.0
PRODID:-//Mount of Olives Baptist Church - ECPv4.9.3.2//NONSGML v1.0//EN
CALSCALE:GREGORIAN
METHOD:PUBLISH
X-WR-CALNAME:Mount of Olives Baptist Church
X-ORIGINAL-URL:http://mountofolives.net
X-WR-CALDESC:Events for Mount of Olives Baptist Church
BEGIN:VEVENT
DTSTART;TZID=America/Chicago:20250327T183000
DTEND;TZID=America/Chicago:20250327T200000
DTSTAMP:20260420T210949
CREATED:20250221T194623Z
LAST-MODIFIED:20250221T194623Z
UID:8591-1743100200-1743105600@mountofolives.net
SUMMARY:Young Adult Bible Study
DESCRIPTION:
URL:http://mountofolives.net/event/young-adult-bible-study-29/
END:VEVENT
END:VCALENDAR