BEGIN:VCALENDAR
VERSION:2.0
PRODID:-//Mount of Olives Baptist Church - ECPv4.9.3.2//NONSGML v1.0//EN
CALSCALE:GREGORIAN
METHOD:PUBLISH
X-WR-CALNAME:Mount of Olives Baptist Church
X-ORIGINAL-URL:http://mountofolives.net
X-WR-CALDESC:Events for Mount of Olives Baptist Church
BEGIN:VEVENT
DTSTART;TZID=America/Chicago:20240920T180000
DTEND;TZID=America/Chicago:20240920T193000
DTSTAMP:20260420T211607
CREATED:20240823T175955Z
LAST-MODIFIED:20240823T175955Z
UID:8183-1726855200-1726860600@mountofolives.net
SUMMARY:Youth Event: Annual Family Event
DESCRIPTION:
URL:http://mountofolives.net/event/youth-event-annual-family-event/
LOCATION:MOBC
END:VEVENT
END:VCALENDAR