BEGIN:VCALENDAR
VERSION:2.0
PRODID:-//Mount of Olives Baptist Church - ECPv4.9.3.2//NONSGML v1.0//EN
CALSCALE:GREGORIAN
METHOD:PUBLISH
X-WR-CALNAME:Mount of Olives Baptist Church
X-ORIGINAL-URL:http://mountofolives.net
X-WR-CALDESC:Events for Mount of Olives Baptist Church
BEGIN:VEVENT
DTSTART;TZID=America/Chicago:20250328T190000
DTEND;TZID=America/Chicago:20250328T210000
DTSTAMP:20260420T225855
CREATED:20250312T222429Z
LAST-MODIFIED:20250312T222429Z
UID:8630-1743188400-1743195600@mountofolives.net
SUMMARY:Youth Group Bowling Event
DESCRIPTION:
URL:http://mountofolives.net/event/youth-group-bowling-event/
END:VEVENT
END:VCALENDAR