BEGIN:VCALENDAR
VERSION:2.0
PRODID:-//Mount of Olives Baptist Church - ECPv4.9.3.2//NONSGML v1.0//EN
CALSCALE:GREGORIAN
METHOD:PUBLISH
X-WR-CALNAME:Mount of Olives Baptist Church
X-ORIGINAL-URL:http://mountofolives.net
X-WR-CALDESC:Events for Mount of Olives Baptist Church
BEGIN:VEVENT
DTSTART;TZID=America/Chicago:20241218T180000
DTEND;TZID=America/Chicago:20241218T193000
DTSTAMP:20260420T211439
CREATED:20241126T190019Z
LAST-MODIFIED:20241126T190019Z
UID:8427-1734544800-1734550200@mountofolives.net
SUMMARY:Youth Group Christmas Party
DESCRIPTION:
URL:http://mountofolives.net/event/youth-group-christmas-party/
END:VEVENT
END:VCALENDAR