BEGIN:VCALENDAR
VERSION:2.0
PRODID:-//Mount of Olives Baptist Church - ECPv4.9.3.2//NONSGML v1.0//EN
CALSCALE:GREGORIAN
METHOD:PUBLISH
X-WR-CALNAME:Mount of Olives Baptist Church
X-ORIGINAL-URL:http://mountofolives.net
X-WR-CALDESC:Events for Mount of Olives Baptist Church
BEGIN:VEVENT
DTSTART;TZID=America/Chicago:20250521T180000
DTEND;TZID=America/Chicago:20250521T193000
DTSTAMP:20260420T172251
CREATED:20250423T220847Z
LAST-MODIFIED:20250423T220847Z
UID:8711-1747850400-1747855800@mountofolives.net
SUMMARY:Youth Group End of the Year Event
DESCRIPTION:
URL:http://mountofolives.net/event/youth-group-end-of-the-year-event/
END:VEVENT
END:VCALENDAR