BEGIN:VCALENDAR
VERSION:2.0
PRODID:-//Mount of Olives Baptist Church - ECPv4.9.3.2//NONSGML v1.0//EN
CALSCALE:GREGORIAN
METHOD:PUBLISH
X-WR-CALNAME:Mount of Olives Baptist Church
X-ORIGINAL-URL:http://mountofolives.net
X-WR-CALDESC:Events for Mount of Olives Baptist Church
BEGIN:VEVENT
DTSTART;TZID=America/Chicago:20240828T180000
DTEND;TZID=America/Chicago:20240828T200000
DTSTAMP:20260420T114803
CREATED:20240823T175821Z
LAST-MODIFIED:20240823T175902Z
UID:8180-1724868000-1724875200@mountofolives.net
SUMMARY:Youth Group Event: Mini Golf
DESCRIPTION:
URL:http://mountofolives.net/event/youth-group-event-mini-golf/
LOCATION:Rogue Eagle Mini Golf
END:VEVENT
END:VCALENDAR