BEGIN:VCALENDAR
VERSION:2.0
PRODID:-//Mount of Olives Baptist Church - ECPv4.9.3.2//NONSGML v1.0//EN
CALSCALE:GREGORIAN
METHOD:PUBLISH
X-WR-CALNAME:Mount of Olives Baptist Church
X-ORIGINAL-URL:http://mountofolives.net
X-WR-CALDESC:Events for Mount of Olives Baptist Church
BEGIN:VEVENT
DTSTART;TZID=America/Chicago:20230830T180000
DTEND;TZID=America/Chicago:20230830T193000
DTSTAMP:20260423T145826
CREATED:20230828T154302Z
LAST-MODIFIED:20240223T200827Z
UID:6709-1693418400-1693423800@mountofolives.net
SUMMARY:Prayer Meeting
DESCRIPTION:
URL:http://mountofolives.net/event/prayer-meeting/2023-08-30/
END:VEVENT
END:VCALENDAR