BEGIN:VCALENDAR
VERSION:2.0
PRODID:-//Mount of Olives Baptist Church - ECPv4.9.3.2//NONSGML v1.0//EN
CALSCALE:GREGORIAN
METHOD:PUBLISH
X-WR-CALNAME:Mount of Olives Baptist Church
X-ORIGINAL-URL:http://mountofolives.net
X-WR-CALDESC:Events for Mount of Olives Baptist Church
BEGIN:VEVENT
DTSTART;TZID=America/Chicago:20240428T090000
DTEND;TZID=America/Chicago:20240428T100000
DTSTAMP:20260423T023930
CREATED:20230828T154705Z
LAST-MODIFIED:20230828T154705Z
UID:6797-1714294800-1714298400@mountofolives.net
SUMMARY:Sunday School (All Ages)
DESCRIPTION:
URL:http://mountofolives.net/event/sunday-school-all-ages/2024-04-28/
END:VEVENT
END:VCALENDAR