BEGIN:VCALENDAR
VERSION:2.0
PRODID:-//Mount of Olives Baptist Church - ECPv4.9.3.2//NONSGML v1.0//EN
CALSCALE:GREGORIAN
METHOD:PUBLISH
X-WR-CALNAME:Mount of Olives Baptist Church
X-ORIGINAL-URL:http://mountofolives.net
X-WR-CALDESC:Events for Mount of Olives Baptist Church
BEGIN:VEVENT
DTSTART;TZID=America/Chicago:20240430T063000
DTEND;TZID=America/Chicago:20240430T080000
DTSTAMP:20260423T011144
CREATED:20210707T145230Z
LAST-MODIFIED:20250918T163639Z
UID:4916-1714458600-1714464000@mountofolives.net
SUMMARY:Men's Bible Study
DESCRIPTION:
URL:http://mountofolives.net/event/mens-bible-study-15/2024-04-30/
END:VEVENT
END:VCALENDAR