BEGIN:VCALENDAR
VERSION:2.0
PRODID:-//Mount of Olives Baptist Church - ECPv4.9.3.2//NONSGML v1.0//EN
CALSCALE:GREGORIAN
METHOD:PUBLISH
X-WR-CALNAME:Mount of Olives Baptist Church
X-ORIGINAL-URL:http://mountofolives.net
X-WR-CALDESC:Events for Mount of Olives Baptist Church
BEGIN:VEVENT
DTSTART;TZID=America/Chicago:20240522T180000
DTEND;TZID=America/Chicago:20240522T193000
DTSTAMP:20260423T011407
CREATED:20230828T154302Z
LAST-MODIFIED:20240223T200837Z
UID:6759-1716400800-1716406200@mountofolives.net
SUMMARY:Prayer Meeting
DESCRIPTION:
URL:http://mountofolives.net/event/prayer-meeting/2024-05-22/
END:VEVENT
BEGIN:VEVENT
DTSTART;TZID=America/Chicago:20240522T180000
DTEND;TZID=America/Chicago:20240522T200000
DTSTAMP:20260423T011407
CREATED:20240503T142442Z
LAST-MODIFIED:20240503T142442Z
UID:7532-1716400800-1716408000@mountofolives.net
SUMMARY:Youth Group
DESCRIPTION:
URL:http://mountofolives.net/event/youth-group-5/2024-05-22/
END:VEVENT
END:VCALENDAR