BEGIN:VCALENDAR
VERSION:2.0
PRODID:-//Mount of Olives Baptist Church - ECPv4.9.3.2//NONSGML v1.0//EN
CALSCALE:GREGORIAN
METHOD:PUBLISH
X-WR-CALNAME:Mount of Olives Baptist Church
X-ORIGINAL-URL:http://mountofolives.net
X-WR-CALDESC:Events for Mount of Olives Baptist Church
BEGIN:VEVENT
DTSTART;TZID=America/Chicago:20240529T180000
DTEND;TZID=America/Chicago:20240529T193000
DTSTAMP:20260422T234824
CREATED:20230828T154302Z
LAST-MODIFIED:20240223T200838Z
UID:6760-1717005600-1717011000@mountofolives.net
SUMMARY:Prayer Meeting
DESCRIPTION:
URL:http://mountofolives.net/event/prayer-meeting/2024-05-29/
END:VEVENT
BEGIN:VEVENT
DTSTART;TZID=America/Chicago:20240529T180000
DTEND;TZID=America/Chicago:20240529T200000
DTSTAMP:20260422T234824
CREATED:20240503T142530Z
LAST-MODIFIED:20240503T142530Z
UID:7533-1717005600-1717012800@mountofolives.net
SUMMARY:Youth Group End of the Year Party
DESCRIPTION:
URL:http://mountofolives.net/event/youth-group-end-of-the-year-party-2/
END:VEVENT
END:VCALENDAR