BEGIN:VCALENDAR
VERSION:2.0
PRODID:-//Mount of Olives Baptist Church - ECPv4.9.3.2//NONSGML v1.0//EN
CALSCALE:GREGORIAN
METHOD:PUBLISH
X-WR-CALNAME:Mount of Olives Baptist Church
X-ORIGINAL-URL:http://mountofolives.net
X-WR-CALDESC:Events for Mount of Olives Baptist Church
BEGIN:VEVENT
DTSTART;TZID=America/Chicago:20240531T130000
DTEND;TZID=America/Chicago:20240604T150000
DTSTAMP:20260422T234712
CREATED:20240531T191117Z
LAST-MODIFIED:20240531T191117Z
UID:7723-1717160400-1717513200@mountofolives.net
SUMMARY:Procraftination
DESCRIPTION:
URL:http://mountofolives.net/event/procraftination-5/
END:VEVENT
BEGIN:VEVENT
DTSTART;TZID=America/Chicago:20240604T063000
DTEND;TZID=America/Chicago:20240604T080000
DTSTAMP:20260422T234712
CREATED:20210707T145230Z
LAST-MODIFIED:20250918T163642Z
UID:4990-1717482600-1717488000@mountofolives.net
SUMMARY:Men's Bible Study
DESCRIPTION:
URL:http://mountofolives.net/event/mens-bible-study-15/2024-06-04/
END:VEVENT
END:VCALENDAR