BEGIN:VCALENDAR
VERSION:2.0
PRODID:-//Mount of Olives Baptist Church - ECPv4.9.3.2//NONSGML v1.0//EN
CALSCALE:GREGORIAN
METHOD:PUBLISH
X-WR-CALNAME:Mount of Olives Baptist Church
X-ORIGINAL-URL:http://mountofolives.net
X-WR-CALDESC:Events for Mount of Olives Baptist Church
BEGIN:VEVENT
DTSTART;TZID=America/Chicago:20240614T173000
DTEND;TZID=America/Chicago:20240614T213000
DTSTAMP:20260422T234926
CREATED:20240524T195443Z
LAST-MODIFIED:20240524T195443Z
UID:7709-1718386200-1718400600@mountofolives.net
SUMMARY:Men's Game Night
DESCRIPTION:
URL:http://mountofolives.net/event/mens-game-night-37/
END:VEVENT
BEGIN:VEVENT
DTSTART;TZID=America/Chicago:20240614T183000
DTEND;TZID=America/Chicago:20240614T203000
DTSTAMP:20260422T234926
CREATED:20240524T195515Z
LAST-MODIFIED:20240524T195515Z
UID:7711-1718389800-1718397000@mountofolives.net
SUMMARY:Youth Group Event: Duluth Huskies Game
DESCRIPTION:
URL:http://mountofolives.net/event/youth-group-event-duluth-huskies-game/
END:VEVENT
END:VCALENDAR