BEGIN:VCALENDAR
VERSION:2.0
PRODID:-//Mount of Olives Baptist Church - ECPv4.9.3.2//NONSGML v1.0//EN
CALSCALE:GREGORIAN
METHOD:PUBLISH
X-WR-CALNAME:Mount of Olives Baptist Church
X-ORIGINAL-URL:http://mountofolives.net
X-WR-CALDESC:Events for Mount of Olives Baptist Church
BEGIN:VEVENT
DTSTART;TZID=America/Chicago:20240717T130000
DTEND;TZID=America/Chicago:20240717T160000
DTSTAMP:20260422T221809
CREATED:20240614T174244Z
LAST-MODIFIED:20240614T174244Z
UID:7808-1721221200-1721232000@mountofolives.net
SUMMARY:Youth Group Service Project
DESCRIPTION:
URL:http://mountofolives.net/event/youth-group-service-project/2024-07-17/
END:VEVENT
BEGIN:VEVENT
DTSTART;TZID=America/Chicago:20240717T180000
DTEND;TZID=America/Chicago:20240717T193000
DTSTAMP:20260422T221809
CREATED:20240524T150042Z
LAST-MODIFIED:20240524T150042Z
UID:7662-1721239200-1721244600@mountofolives.net
SUMMARY:Prayer Meeting
DESCRIPTION:
URL:http://mountofolives.net/event/prayer-meeting-2/2024-07-17/
END:VEVENT
END:VCALENDAR