BEGIN:VCALENDAR
VERSION:2.0
PRODID:-//Mount of Olives Baptist Church - ECPv4.9.3.2//NONSGML v1.0//EN
CALSCALE:GREGORIAN
METHOD:PUBLISH
X-WR-CALNAME:Mount of Olives Baptist Church
X-ORIGINAL-URL:http://mountofolives.net
X-WR-CALDESC:Events for Mount of Olives Baptist Church
BEGIN:VEVENT
DTSTART;TZID=America/Chicago:20240725T183000
DTEND;TZID=America/Chicago:20240725T200000
DTSTAMP:20260422T222036
CREATED:20240524T150749Z
LAST-MODIFIED:20240524T150749Z
UID:7694-1721932200-1721937600@mountofolives.net
SUMMARY:Young Adult Bible Study
DESCRIPTION:
URL:http://mountofolives.net/event/young-adult-bible-study-24/2024-07-25/
END:VEVENT
END:VCALENDAR