BEGIN:VCALENDAR
VERSION:2.0
PRODID:-//Mount of Olives Baptist Church - ECPv4.9.3.2//NONSGML v1.0//EN
CALSCALE:GREGORIAN
METHOD:PUBLISH
X-WR-CALNAME:Mount of Olives Baptist Church
X-ORIGINAL-URL:http://mountofolives.net
X-WR-CALDESC:Events for Mount of Olives Baptist Church
BEGIN:VEVENT
DTSTART;TZID=America/Chicago:20240906T183000
DTEND;TZID=America/Chicago:20240906T200000
DTSTAMP:20260422T193349
CREATED:20240816T132802Z
LAST-MODIFIED:20240816T132802Z
UID:8011-1725647400-1725652800@mountofolives.net
SUMMARY:Baby Shower
DESCRIPTION:Please join the women of MOBC for a baby shower for Havilah Klemmer. \n
URL:http://mountofolives.net/event/baby-shower/
END:VEVENT
END:VCALENDAR